BEGIN:VCALENDAR
VERSION:2.0
PRODID:-//Skånes Friidrottsförbund - ECPv5.5.0.1//NONSGML v1.0//EN
CALSCALE:GREGORIAN
METHOD:PUBLISH
X-WR-CALNAME:Skånes Friidrottsförbund
X-ORIGINAL-URL:https://skanefriidrott.org
X-WR-CALDESC:Events for Skånes Friidrottsförbund
BEGIN:VTIMEZONE
TZID:Europe/Stockholm
BEGIN:DAYLIGHT
TZOFFSETFROM:+0100
TZOFFSETTO:+0200
TZNAME:CEST
DTSTART:20200329T010000
END:DAYLIGHT
BEGIN:STANDARD
TZOFFSETFROM:+0200
TZOFFSETTO:+0100
TZNAME:CET
DTSTART:20201025T010000
END:STANDARD
END:VTIMEZONE
BEGIN:VEVENT
DTSTART;TZID=Europe/Stockholm:20201114T080000
DTEND;TZID=Europe/Stockholm:20201114T170000
DTSTAMP:20260425T005645
CREATED:20201109T211005Z
LAST-MODIFIED:20201214T144823Z
UID:6336-1605340800-1605373200@skanefriidrott.org
SUMMARY:Start 2 Finish
DESCRIPTION:
URL:https://skanefriidrott.org/event/start-2-finish/
END:VEVENT
BEGIN:VEVENT
DTSTART;TZID=Europe/Stockholm:20201120T080000
DTEND;TZID=Europe/Stockholm:20201120T170000
DTSTAMP:20260425T005645
CREATED:20201111T170540Z
LAST-MODIFIED:20201214T144804Z
UID:6498-1605859200-1605891600@skanefriidrott.org
SUMMARY:Ledare 1
DESCRIPTION:Entia non sunt multiplicanda praeter necessitatem. Entia non sunt multiplicanda praeter necessitatem. Entia non sunt multiplicanda praeter necessitatem. Entia non sunt multiplicanda praeter necessitatem. Entia non sunt multiplicanda praeter necessitatem. Entia non sunt multiplicanda praeter necessitatem. Entia non sunt multiplicanda praeter necessitatem.
URL:https://skanefriidrott.org/event/ledarutbildning-1/
CATEGORIES:Ledare,Utbildning
END:VEVENT
BEGIN:VEVENT
DTSTART;TZID=Europe/Stockholm:20201121T080000
DTEND;TZID=Europe/Stockholm:20201121T170000
DTSTAMP:20260425T005645
CREATED:20201111T070000Z
LAST-MODIFIED:20201214T144747Z
UID:6503-1605945600-1605978000@skanefriidrott.org
SUMMARY:Tränare 1
DESCRIPTION:Entia non sunt multiplicanda praeter necessitatem. Entia non sunt multiplicanda praeter necessitatem. Entia non sunt multiplicanda praeter necessitatem. Entia non sunt multiplicanda praeter necessitatem. Entia non sunt multiplicanda praeter necessitatem. Entia non sunt multiplicanda praeter necessitatem. Entia non sunt multiplicanda praeter necessitatem.
URL:https://skanefriidrott.org/event/tranare-1/
CATEGORIES:Tränare,Utbildning
END:VEVENT
END:VCALENDAR