BEGIN:VCALENDAR
VERSION:2.0
PRODID:-//Skånes Friidrottsförbund - ECPv5.5.0.1//NONSGML v1.0//EN
CALSCALE:GREGORIAN
METHOD:PUBLISH
X-WR-CALNAME:Skånes Friidrottsförbund
X-ORIGINAL-URL:https://skanefriidrott.org
X-WR-CALDESC:Events for Skånes Friidrottsförbund
BEGIN:VTIMEZONE
TZID:Europe/Stockholm
BEGIN:DAYLIGHT
TZOFFSETFROM:+0100
TZOFFSETTO:+0200
TZNAME:CEST
DTSTART:20210328T010000
END:DAYLIGHT
BEGIN:STANDARD
TZOFFSETFROM:+0200
TZOFFSETTO:+0100
TZNAME:CET
DTSTART:20211031T010000
END:STANDARD
END:VTIMEZONE
BEGIN:VEVENT
DTSTART;VALUE=DATE:20210222
DTEND;VALUE=DATE:20210223
DTSTAMP:20260424T195730
CREATED:20210216T141900Z
LAST-MODIFIED:20210216T141900Z
UID:7889-1613952000-1614038399@skanefriidrott.org
SUMMARY:Resultattävling - Åhus FIK
DESCRIPTION:Höjd och tresteg.\nAktiva födda 06-05\nPlats är Liviushallen\, Kristianstad. \n 
URL:https://skanefriidrott.org/event/resultattavling-ahus-fik/
LOCATION:Liviushallen\, Estrids väg 9\, Krisitanstad\, 291 65
CATEGORIES:Arena,Klubbtävling
END:VEVENT
BEGIN:VEVENT
DTSTART;VALUE=DATE:20210225
DTEND;VALUE=DATE:20210226
DTSTAMP:20260424T195730
CREATED:20210217T134629Z
LAST-MODIFIED:20210217T134629Z
UID:7895-1614211200-1614297599@skanefriidrott.org
SUMMARY:Resultattävling - Åhus FIK
DESCRIPTION:Längd\, vikt och kula
URL:https://skanefriidrott.org/event/resultattavling-ahus-fik-2/
LOCATION:Liviushallen\, Estrids väg 9\, Krisitanstad\, 291 65
CATEGORIES:Arena,Klubbtävling
END:VEVENT
BEGIN:VEVENT
DTSTART;VALUE=DATE:20210227
DTEND;VALUE=DATE:20210228
DTSTAMP:20260424T195730
CREATED:20210217T134822Z
LAST-MODIFIED:20210217T134956Z
UID:7897-1614384000-1614470399@skanefriidrott.org
SUMMARY:Resultattävling - Åhus FIK
DESCRIPTION:60m häck och 60m (eltid)
URL:https://skanefriidrott.org/event/resultattavling-ahus-fik-3/
CATEGORIES:Arena,Klubbtävling
END:VEVENT
END:VCALENDAR