BEGIN:VCALENDAR
VERSION:2.0
PRODID:-//Skånes Friidrottsförbund - ECPv5.5.0.1//NONSGML v1.0//EN
CALSCALE:GREGORIAN
METHOD:PUBLISH
X-WR-CALNAME:Skånes Friidrottsförbund
X-ORIGINAL-URL:https://skanefriidrott.org
X-WR-CALDESC:Events for Skånes Friidrottsförbund
BEGIN:VTIMEZONE
TZID:Europe/Stockholm
BEGIN:DAYLIGHT
TZOFFSETFROM:+0100
TZOFFSETTO:+0200
TZNAME:CEST
DTSTART:20210328T010000
END:DAYLIGHT
BEGIN:STANDARD
TZOFFSETFROM:+0200
TZOFFSETTO:+0100
TZNAME:CET
DTSTART:20211031T010000
END:STANDARD
END:VTIMEZONE
BEGIN:VEVENT
DTSTART;VALUE=DATE:20210417
DTEND;VALUE=DATE:20210418
DTSTAMP:20260424T171117
CREATED:20201231T230000Z
LAST-MODIFIED:20210122T124920Z
UID:7435-1618617600-1618703999@skanefriidrott.org
SUMMARY:Varvetmilen Malmö
DESCRIPTION:
URL:https://heleneholmsif.se/#new_tab
CATEGORIES:10km,Långlopp
END:VEVENT
BEGIN:VEVENT
DTSTART;VALUE=DATE:20210424
DTEND;VALUE=DATE:20210425
DTSTAMP:20260424T171117
CREATED:20210118T125618Z
LAST-MODIFIED:20210511T111824Z
UID:7439-1619222400-1619308799@skanefriidrott.org
SUMMARY:Skrylle Challenge - Inställt
DESCRIPTION:
URL:http://www.bjornstorpsif.se/start/?ID=198884#new_tab
CATEGORIES:Långlopp,Spring i Skånes Trailcup,Trail
END:VEVENT
BEGIN:VEVENT
DTSTART;VALUE=DATE:20210424
DTEND;VALUE=DATE:20210425
DTSTAMP:20260424T171117
CREATED:20210423T220000Z
LAST-MODIFIED:20210122T115558Z
UID:7195-1619222400-1619308799@skanefriidrott.org
SUMMARY:Palmkastet
DESCRIPTION:
URL:https://www.trelleborgfriidrott.com/Arrangemang/Palmkastet/#new_tab
CATEGORIES:Arena
END:VEVENT
BEGIN:VEVENT
DTSTART;VALUE=DATE:20210427
DTEND;VALUE=DATE:20210428
DTSTAMP:20260424T171117
CREATED:20210118T125924Z
LAST-MODIFIED:20210122T095907Z
UID:7441-1619481600-1619567999@skanefriidrott.org
SUMMARY:VårRuset
DESCRIPTION:
URL:https://varruset.se/lopp/malmo/#new_tab
CATEGORIES:5km,Långlopp
END:VEVENT
BEGIN:VEVENT
DTSTART;VALUE=DATE:20210501
DTEND;VALUE=DATE:20210502
DTSTAMP:20260424T171117
CREATED:20210507T122024Z
LAST-MODIFIED:20210507T122024Z
UID:8026-1619827200-1619913599@skanefriidrott.org
SUMMARY:Resultattävling Åhus
DESCRIPTION:
URL:https://skanefriidrott.org/event/resultattavling-ahus/
CATEGORIES:Aktiva,Arena,Arena Skånska Mästerskapen,Klubbtävling
END:VEVENT
END:VCALENDAR