BEGIN:VCALENDAR
VERSION:2.0
PRODID:-//Skånes Friidrottsförbund - ECPv5.5.0.1//NONSGML v1.0//EN
CALSCALE:GREGORIAN
METHOD:PUBLISH
X-WR-CALNAME:Skånes Friidrottsförbund
X-ORIGINAL-URL:https://skanefriidrott.org
X-WR-CALDESC:Events for Skånes Friidrottsförbund
BEGIN:VTIMEZONE
TZID:Europe/Stockholm
BEGIN:DAYLIGHT
TZOFFSETFROM:+0100
TZOFFSETTO:+0200
TZNAME:CEST
DTSTART:20210328T010000
END:DAYLIGHT
BEGIN:STANDARD
TZOFFSETFROM:+0200
TZOFFSETTO:+0100
TZNAME:CET
DTSTART:20211031T010000
END:STANDARD
END:VTIMEZONE
BEGIN:VEVENT
DTSTART;VALUE=DATE:20210605
DTEND;VALUE=DATE:20210606
DTSTAMP:20260424T140538
CREATED:20210531T095253Z
LAST-MODIFIED:20210531T143336Z
UID:8089-1622851200-1622937599@skanefriidrott.org
SUMMARY:Resultattävling  Kristianstad
DESCRIPTION:
URL:https://idrottonline.se/KFUMKristianstadFriidrottsforening-Friidrott/#new_tab
CATEGORIES:Arena,Klubbtävling,Tävlingar
END:VEVENT
BEGIN:VEVENT
DTSTART;VALUE=DATE:20210605
DTEND;VALUE=DATE:20210606
DTSTAMP:20260424T140538
CREATED:20210531T095404Z
LAST-MODIFIED:20210603T075505Z
UID:8091-1622851200-1622937599@skanefriidrott.org
SUMMARY:Resultattävling Malmö
DESCRIPTION:
URL:https://www.mai.se/resultatarkiv/#new_tab
CATEGORIES:Arena,Klubbtävling,Tävlingar
END:VEVENT
BEGIN:VEVENT
DTSTART;VALUE=DATE:20210605
DTEND;VALUE=DATE:20210606
DTSTAMP:20260424T140538
CREATED:20210601T195648Z
LAST-MODIFIED:20210601T195648Z
UID:8106-1622851200-1622937599@skanefriidrott.org
SUMMARY:Resultattävling Klippan
DESCRIPTION:
URL:https://skanefriidrott.org/event/resultattavling-klippan-3/
CATEGORIES:Arena,Klubbtävling,Tävlingar
END:VEVENT
BEGIN:VEVENT
DTSTART;VALUE=DATE:20210605
DTEND;VALUE=DATE:20210606
DTSTAMP:20260424T140538
CREATED:20210604T220000Z
LAST-MODIFIED:20210527T121514Z
UID:7218-1622851200-1622937599@skanefriidrott.org
SUMMARY:Trelleborgsspelen
DESCRIPTION:
URL:https://skanefriidrott.org/event/trelleborgsspelen/
CATEGORIES:Arena
END:VEVENT
BEGIN:VEVENT
DTSTART;VALUE=DATE:20210606
DTEND;VALUE=DATE:20210607
DTSTAMP:20260424T140538
CREATED:20201231T230000Z
LAST-MODIFIED:20210122T100649Z
UID:7461-1622937600-1623023999@skanefriidrott.org
SUMMARY:Hildesborgsloppet
DESCRIPTION:
URL:http://www.gfidrott-friluft.se/Hildesborgsloppet/#new_tab
CATEGORIES:Långlopp,Masters
END:VEVENT
BEGIN:VEVENT
DTSTART;VALUE=DATE:20210606
DTEND;VALUE=DATE:20210607
DTSTAMP:20260424T140538
CREATED:20210604T130002Z
LAST-MODIFIED:20210604T130822Z
UID:8121-1622937600-1623023999@skanefriidrott.org
SUMMARY:Heleneholmskastet 1
DESCRIPTION:
URL:https://heleneholmsif.se/#new_tab
CATEGORIES:Arena,Tävlingar
END:VEVENT
BEGIN:VEVENT
DTSTART;VALUE=DATE:20210609
DTEND;VALUE=DATE:20210610
DTSTAMP:20260424T140538
CREATED:20210531T100148Z
LAST-MODIFIED:20210601T093137Z
UID:8100-1623196800-1623283199@skanefriidrott.org
SUMMARY:Eslöv Micro Games nr 2
DESCRIPTION:
URL:http://pannkaksspelen.se#new_tab
CATEGORIES:Arena,Tävlingar
END:VEVENT
BEGIN:VEVENT
DTSTART;TZID=Europe/Stockholm:20210609T170000
DTEND;TZID=Europe/Stockholm:20210609T200000
DTSTAMP:20260424T140538
CREATED:20210531T095545Z
LAST-MODIFIED:20210531T095545Z
UID:8094-1623258000-1623268800@skanefriidrott.org
SUMMARY:Resultattävling Klippan
DESCRIPTION:
URL:https://skanefriidrott.org/event/resultattavling-klippan-2/
CATEGORIES:Arena,Klubbtävling,Tävlingar
END:VEVENT
BEGIN:VEVENT
DTSTART;TZID=Europe/Stockholm:20210610T180000
DTEND;TZID=Europe/Stockholm:20210610T210000
DTSTAMP:20260424T140538
CREATED:20210531T095759Z
LAST-MODIFIED:20210604T081243Z
UID:8096-1623348000-1623358800@skanefriidrott.org
SUMMARY:5000m på Heden
DESCRIPTION:
URL:https://isgotafriidrott.se/ggp/#new_tab
CATEGORIES:Arena,Tävlingar
END:VEVENT
BEGIN:VEVENT
DTSTART;VALUE=DATE:20210613
DTEND;VALUE=DATE:20210614
DTSTAMP:20260424T140538
CREATED:20210604T130142Z
LAST-MODIFIED:20210604T130746Z
UID:8123-1623542400-1623628799@skanefriidrott.org
SUMMARY:Heleneholmskastet 2
DESCRIPTION:
URL:https://heleneholmsif.se/#new_tab
CATEGORIES:Arena,Tävlingar
END:VEVENT
BEGIN:VEVENT
DTSTART;VALUE=DATE:20210613
DTEND;VALUE=DATE:20210614
DTSTAMP:20260424T140538
CREATED:20210607T091344Z
LAST-MODIFIED:20210607T091344Z
UID:8127-1623542400-1623628799@skanefriidrott.org
SUMMARY:Resultattävling Höjd Lund
DESCRIPTION:
URL:http://ifklund.se/#new_tab
CATEGORIES:Arena,Klubbtävling,Tävlingar
END:VEVENT
BEGIN:VEVENT
DTSTART;TZID=Europe/Stockholm:20210613T080000
DTEND;TZID=Europe/Stockholm:20210613T170000
DTSTAMP:20260424T140538
CREATED:20210603T081452Z
LAST-MODIFIED:20210603T081452Z
UID:8112-1623571200-1623603600@skanefriidrott.org
SUMMARY:Änglahoppet
DESCRIPTION:
URL:https://idrottonline.se/AngelholmsIF-Friidrott/#new_tab
CATEGORIES:Arena,Klubbtävling,Tävlingar
END:VEVENT
BEGIN:VEVENT
DTSTART;VALUE=DATE:20210616
DTEND;VALUE=DATE:20210617
DTSTAMP:20260424T140538
CREATED:20210602T063809Z
LAST-MODIFIED:20210602T063809Z
UID:8108-1623801600-1623887999@skanefriidrott.org
SUMMARY:DM / VDM 3000m / 2000m
DESCRIPTION:
URL:http://www2.sportadmin.se/hemsida/docs/1079/27870/3000%20,%202000%20meter%20inbjudan%2020210616.pdf#new_tab
CATEGORIES:Arena,Arena Skånska Mästerskapen,Masters,Tävlingar
END:VEVENT
BEGIN:VEVENT
DTSTART;VALUE=DATE:20210616
DTEND;VALUE=DATE:20210617
DTSTAMP:20260424T140538
CREATED:20210616T090655Z
LAST-MODIFIED:20210616T090655Z
UID:8191-1623801600-1623887999@skanefriidrott.org
SUMMARY:Resultattävling Åhus
DESCRIPTION:
URL:http://www.ahusfik.se/start/?ID=186669#new_tab
CATEGORIES:Arena,Tävlingar
END:VEVENT
BEGIN:VEVENT
DTSTART;VALUE=DATE:20210616
DTEND;VALUE=DATE:20210624
DTSTAMP:20260424T140538
CREATED:20210622T220000Z
LAST-MODIFIED:20210611T073927Z
UID:7469-1623801600-1624492799@skanefriidrott.org
SUMMARY:Malmöloppet
DESCRIPTION:
URL:https://malmoloppen.se/malmoloppet/#new_tab
CATEGORIES:10km,5km,Långlopp
END:VEVENT
BEGIN:VEVENT
DTSTART;VALUE=DATE:20210618
DTEND;VALUE=DATE:20210619
DTSTAMP:20260424T140538
CREATED:20210617T220000Z
LAST-MODIFIED:20210528T091913Z
UID:7467-1623974400-1624060799@skanefriidrott.org
SUMMARY:Sunset Run
DESCRIPTION:
URL:https://www.sunsetrunmalmo.com/#new_tab
CATEGORIES:5km,Långlopp
END:VEVENT
BEGIN:VEVENT
DTSTART;VALUE=DATE:20210619
DTEND;VALUE=DATE:20210620
DTSTAMP:20260424T140538
CREATED:20210602T164742Z
LAST-MODIFIED:20210602T164742Z
UID:8110-1624060800-1624147199@skanefriidrott.org
SUMMARY:Resultattävling Landskrona
DESCRIPTION:
URL:http://www.ifkronan.se/#new_tab
CATEGORIES:Klubbtävling,Tävlingar
END:VEVENT
BEGIN:VEVENT
DTSTART;VALUE=DATE:20210619
DTEND;VALUE=DATE:20210620
DTSTAMP:20260424T140538
CREATED:20210616T090246Z
LAST-MODIFIED:20210616T090246Z
UID:8189-1624060800-1624147199@skanefriidrott.org
SUMMARY:Resultattävling kast i Helsingborg
DESCRIPTION:
URL:https://www.ifkhelsingborg.se/#new_tab
CATEGORIES:Arena,Tävlingar
END:VEVENT
BEGIN:VEVENT
DTSTART;VALUE=DATE:20210619
DTEND;VALUE=DATE:20210621
DTSTAMP:20260424T140538
CREATED:20210618T220000Z
LAST-MODIFIED:20210602T075719Z
UID:7220-1624060800-1624233599@skanefriidrott.org
SUMMARY:Finish Games
DESCRIPTION:
URL:https://www.ikfinish.se/finishgames/#new_tab
CATEGORIES:Arena
END:VEVENT
BEGIN:VEVENT
DTSTART;VALUE=DATE:20210620
DTEND;VALUE=DATE:20210621
DTSTAMP:20260424T140538
CREATED:20210604T130504Z
LAST-MODIFIED:20210604T130504Z
UID:8125-1624147200-1624233599@skanefriidrott.org
SUMMARY:Heleneholmskastet 3
DESCRIPTION:
URL:https://heleneholmsif.se/#new_tab
CATEGORIES:Arena,Tävlingar
END:VEVENT
BEGIN:VEVENT
DTSTART;VALUE=DATE:20210621
DTEND;VALUE=DATE:20210622
DTSTAMP:20260424T140538
CREATED:20210616T092109Z
LAST-MODIFIED:20210616T092109Z
UID:8193-1624233600-1624319999@skanefriidrott.org
SUMMARY:Invigningshoppet Heden
DESCRIPTION:
URL:https://www.ifkhelsingborg.se/#new_tab
CATEGORIES:Arena,Tävlingar
END:VEVENT
BEGIN:VEVENT
DTSTART;VALUE=DATE:20210623
DTEND;VALUE=DATE:20210624
DTSTAMP:20260424T140538
CREATED:20210622T220000Z
LAST-MODIFIED:20210603T084627Z
UID:7223-1624406400-1624492799@skanefriidrott.org
SUMMARY:Lundakvällen
DESCRIPTION:
URL:http://ifklund.se/lundakvallen/#new_tab
CATEGORIES:Arena
END:VEVENT
BEGIN:VEVENT
DTSTART;VALUE=DATE:20210624
DTEND;VALUE=DATE:20210625
DTSTAMP:20260424T140538
CREATED:20210623T220000Z
LAST-MODIFIED:20210604T081329Z
UID:8098-1624492800-1624579199@skanefriidrott.org
SUMMARY:2000m på Heden
DESCRIPTION:
URL:https://isgotafriidrott.se/ggp/#new_tab
CATEGORIES:Arena,Tävlingar
END:VEVENT
BEGIN:VEVENT
DTSTART;VALUE=DATE:20210626
DTEND;VALUE=DATE:20210627
DTSTAMP:20260424T140538
CREATED:20210618T061612Z
LAST-MODIFIED:20210618T061612Z
UID:8197-1624665600-1624751999@skanefriidrott.org
SUMMARY:Midsommarhoppet
DESCRIPTION:
URL:https://www.ifkhelsingborg.se/#new_tab
CATEGORIES:Arena,Tävlingar
END:VEVENT
BEGIN:VEVENT
DTSTART;VALUE=DATE:20210627
DTEND;VALUE=DATE:20210628
DTSTAMP:20260424T140538
CREATED:20210627T194614Z
LAST-MODIFIED:20210627T194614Z
UID:8231-1624752000-1624838399@skanefriidrott.org
SUMMARY:Kasttävling i Helsingborg
DESCRIPTION:
URL:https://www.ifkhelsingborg.se/#new_tab
CATEGORIES:Arena,Tävlingar
END:VEVENT
BEGIN:VEVENT
DTSTART;VALUE=DATE:20210627
DTEND;VALUE=DATE:20210628
DTSTAMP:20260424T140538
CREATED:20210627T194917Z
LAST-MODIFIED:20210627T194917Z
UID:8233-1624752000-1624838399@skanefriidrott.org
SUMMARY:Heleneholmskastet 4
DESCRIPTION:
URL:https://heleneholmsif.se/#new_tab
CATEGORIES:Arena,Tävlingar
END:VEVENT
BEGIN:VEVENT
DTSTART;VALUE=DATE:20210628
DTEND;VALUE=DATE:20210629
DTSTAMP:20260424T140538
CREATED:20210627T194324Z
LAST-MODIFIED:20210627T194324Z
UID:8229-1624838400-1624924799@skanefriidrott.org
SUMMARY:Sommartävling
DESCRIPTION:
URL:http://www.friidrott.ystadsif.se/start/?ID=254129#new_tab
CATEGORIES:Arena,Tävlingar
END:VEVENT
BEGIN:VEVENT
DTSTART;VALUE=DATE:20210630
DTEND;VALUE=DATE:20210701
DTSTAMP:20260424T140538
CREATED:20210629T220000Z
LAST-MODIFIED:20210412T085433Z
UID:7471-1625011200-1625097599@skanefriidrott.org
SUMMARY:Hörby Marknadslopp- Inställt
DESCRIPTION:
URL:http://marknadsloppet.nu/#new_tab
CATEGORIES:Långlopp,Masters
END:VEVENT
BEGIN:VEVENT
DTSTART;VALUE=DATE:20210703
DTEND;VALUE=DATE:20210704
DTSTAMP:20260424T140538
CREATED:20210702T220000Z
LAST-MODIFIED:20210608T093548Z
UID:8119-1625270400-1625356799@skanefriidrott.org
SUMMARY:10 000m DM /VDM
DESCRIPTION:10000 m inbjudan 2021
URL:https://skanefriidrott.org/event/10-000m-dm-vdm/
CATEGORIES:Arena,Arena Skånska Mästerskapen,Masters
END:VEVENT
END:VCALENDAR