BEGIN:VCALENDAR
VERSION:2.0
PRODID:-//Skånes Friidrottsförbund - ECPv5.5.0.1//NONSGML v1.0//EN
CALSCALE:GREGORIAN
METHOD:PUBLISH
X-WR-CALNAME:Skånes Friidrottsförbund
X-ORIGINAL-URL:https://skanefriidrott.org
X-WR-CALDESC:Events for Skånes Friidrottsförbund
BEGIN:VTIMEZONE
TZID:Europe/Stockholm
BEGIN:DAYLIGHT
TZOFFSETFROM:+0100
TZOFFSETTO:+0200
TZNAME:CEST
DTSTART:20210328T010000
END:DAYLIGHT
BEGIN:STANDARD
TZOFFSETFROM:+0200
TZOFFSETTO:+0100
TZNAME:CET
DTSTART:20211031T010000
END:STANDARD
END:VTIMEZONE
BEGIN:VEVENT
DTSTART;TZID=Europe/Stockholm:20211107T100000
DTEND;TZID=Europe/Stockholm:20211107T160000
DTSTAMP:20260424T054806
CREATED:20211005T104331Z
LAST-MODIFIED:20211005T104331Z
UID:8666-1636279200-1636300800@skanefriidrott.org
SUMMARY:Inbjudan till Häckprojektet\, Klubb Skåne
DESCRIPTION:Inbjudan till Häckprojektet Klubb Skåne – 2021-11-07
URL:https://skanefriidrott.org/event/inbjudan-till-hackprojektet-klubb-skane/
CATEGORIES:Fortbildningar,Utbildning
ORGANIZER;CN="Sk%C3%A5nes%20Friidrottsf%C3%B6rbund":MAILTO:kansli@skanefriidrott.org
END:VEVENT
BEGIN:VEVENT
DTSTART;VALUE=DATE:20211113
DTEND;VALUE=DATE:20211114
DTSTAMP:20260424T054806
CREATED:20211112T230000Z
LAST-MODIFIED:20210530T072608Z
UID:7523-1636761600-1636847999@skanefriidrott.org
SUMMARY:Höstmilen
DESCRIPTION:
URL:https://malmoloppen.se/#new_tab
CATEGORIES:10km,5km,Långlopp
END:VEVENT
BEGIN:VEVENT
DTSTART;VALUE=DATE:20211113
DTEND;VALUE=DATE:20211114
DTSTAMP:20260424T054806
CREATED:20211113T070000Z
LAST-MODIFIED:20210530T072530Z
UID:7520-1636761600-1636847999@skanefriidrott.org
SUMMARY:Skanneloppet
DESCRIPTION:
URL:http://ww.isskanne.se#new_tab
CATEGORIES:Långlopp,Masters
END:VEVENT
BEGIN:VEVENT
DTSTART;VALUE=DATE:20211121
DTEND;VALUE=DATE:20211122
DTSTAMP:20260424T054806
CREATED:20211102T100614Z
LAST-MODIFIED:20211102T100614Z
UID:8728-1637452800-1637539199@skanefriidrott.org
SUMMARY:Resultattävling Kristianstad
DESCRIPTION:
URL:https://skanefriidrott.org/event/resultattavling-kristianstad-2/
CATEGORIES:Arena,Klubbtävling,Tävlingar
END:VEVENT
BEGIN:VEVENT
DTSTART;VALUE=DATE:20211121
DTEND;VALUE=DATE:20211122
DTSTAMP:20260424T054806
CREATED:20211121T070000Z
LAST-MODIFIED:20210530T073017Z
UID:7525-1637452800-1637539199@skanefriidrott.org
SUMMARY:Kristianstad Trail
DESCRIPTION:
URL:http://www.kristianstadtrail.se#new_tab
CATEGORIES:Långlopp,Spring i Skånes Trailcup,Trail
END:VEVENT
BEGIN:VEVENT
DTSTART;VALUE=DATE:20211126
DTEND;VALUE=DATE:20211127
DTSTAMP:20260424T054806
CREATED:20211129T120022Z
LAST-MODIFIED:20211129T120022Z
UID:8759-1637884800-1637971199@skanefriidrott.org
SUMMARY:Resultattävling kula vikt Åhus
DESCRIPTION:
URL:https://skanefriidrott.org/event/resultattavling-kula-vikt-ahus/
CATEGORIES:Arena,Klubbtävling,Tävlingar
END:VEVENT
BEGIN:VEVENT
DTSTART;VALUE=DATE:20211127
DTEND;VALUE=DATE:20211128
DTSTAMP:20260424T054806
CREATED:20211007T090749Z
LAST-MODIFIED:20211007T090749Z
UID:8676-1637971200-1638057599@skanefriidrott.org
SUMMARY:Julchansen
DESCRIPTION:
URL:https://heleneholmsif.se/arrangemang/#new_tab
CATEGORIES:Arena,Tävlingar
END:VEVENT
BEGIN:VEVENT
DTSTART;VALUE=DATE:20211204
DTEND;VALUE=DATE:20211205
DTSTAMP:20260424T054806
CREATED:20211203T230000Z
LAST-MODIFIED:20210530T072922Z
UID:7418-1638576000-1638662399@skanefriidrott.org
SUMMARY:Åhus TrailRun
DESCRIPTION:
URL:https://idrottonline.se/OKPan-Kristianstad-Friidrott/#new_tab
CATEGORIES:Långlopp,Spring i Skånes Trailcup,Trail
END:VEVENT
END:VCALENDAR