BEGIN:VCALENDAR
VERSION:2.0
PRODID:-//Skånes Friidrottsförbund - ECPv5.5.0.1//NONSGML v1.0//EN
CALSCALE:GREGORIAN
METHOD:PUBLISH
X-WR-CALNAME:Skånes Friidrottsförbund
X-ORIGINAL-URL:https://skanefriidrott.org
X-WR-CALDESC:Events for Skånes Friidrottsförbund
BEGIN:VTIMEZONE
TZID:Europe/Stockholm
BEGIN:DAYLIGHT
TZOFFSETFROM:+0100
TZOFFSETTO:+0200
TZNAME:CEST
DTSTART:20210328T010000
END:DAYLIGHT
BEGIN:STANDARD
TZOFFSETFROM:+0200
TZOFFSETTO:+0100
TZNAME:CET
DTSTART:20211031T010000
END:STANDARD
BEGIN:DAYLIGHT
TZOFFSETFROM:+0100
TZOFFSETTO:+0200
TZNAME:CEST
DTSTART:20220327T010000
END:DAYLIGHT
BEGIN:STANDARD
TZOFFSETFROM:+0200
TZOFFSETTO:+0100
TZNAME:CET
DTSTART:20221030T010000
END:STANDARD
END:VTIMEZONE
BEGIN:VEVENT
DTSTART;VALUE=DATE:20211227
DTEND;VALUE=DATE:20211228
DTSTAMP:20260424T023558
CREATED:20211124T123732Z
LAST-MODIFIED:20211124T123732Z
UID:8743-1640563200-1640649599@skanefriidrott.org
SUMMARY:Resultattävling stav - Kristianstad
DESCRIPTION:
URL:https://skanefriidrott.org/event/resultattavling-stav-kristianstad/
CATEGORIES:Arena,Klubbtävling,Tävlingar
END:VEVENT
BEGIN:VEVENT
DTSTART;VALUE=DATE:20211228
DTEND;VALUE=DATE:20211229
DTSTAMP:20260424T023558
CREATED:20211227T114339Z
LAST-MODIFIED:20211227T114339Z
UID:8805-1640649600-1640735999@skanefriidrott.org
SUMMARY:Resultattävling  längd och kula Kristianstad
DESCRIPTION:
URL:https://skanefriidrott.org/event/resultattavling-langd-och-kula-kristianstad/
CATEGORIES:Arena,Tävlingar
END:VEVENT
BEGIN:VEVENT
DTSTART;VALUE=DATE:20211229
DTEND;VALUE=DATE:20211230
DTSTAMP:20260424T023558
CREATED:20211124T124158Z
LAST-MODIFIED:20211124T124158Z
UID:8745-1640736000-1640822399@skanefriidrott.org
SUMMARY:Resultattävling höjd kula - Kristianstad
DESCRIPTION:
URL:https://skanefriidrott.org/event/resultattavling-hojd-kula-kristianstad/
CATEGORIES:Arena,Klubbtävling,Tävlingar
END:VEVENT
BEGIN:VEVENT
DTSTART;VALUE=DATE:20211230
DTEND;VALUE=DATE:20211231
DTSTAMP:20260424T023558
CREATED:20211227T114451Z
LAST-MODIFIED:20211227T114451Z
UID:8807-1640822400-1640908799@skanefriidrott.org
SUMMARY:Resultattävling  höjd och vikt Kristianstad
DESCRIPTION:
URL:https://skanefriidrott.org/event/resultattavling-hojd-och-vikt-kristianstad/
CATEGORIES:Arena,Tävlingar
END:VEVENT
BEGIN:VEVENT
DTSTART;VALUE=DATE:20211231
DTEND;VALUE=DATE:20220101
DTSTAMP:20260424T023558
CREATED:20211231T070000Z
LAST-MODIFIED:20210530T072733Z
UID:7530-1640908800-1640995199@skanefriidrott.org
SUMMARY:Sylvesterloppet 2021
DESCRIPTION:
URL:http://trelleborgfriidrott.com#new_tab
CATEGORIES:Långlopp
END:VEVENT
BEGIN:VEVENT
DTSTART;VALUE=DATE:20211231
DTEND;VALUE=DATE:20220101
DTSTAMP:20260424T023558
CREATED:20211231T070000Z
LAST-MODIFIED:20210530T072806Z
UID:7532-1640908800-1640995199@skanefriidrott.org
SUMMARY:Nyårsloppet
DESCRIPTION:1
URL:http://friidrott.ystadsif.se#new_tab
CATEGORIES:Långlopp
END:VEVENT
BEGIN:VEVENT
DTSTART;VALUE=DATE:20220102
DTEND;VALUE=DATE:20220103
DTSTAMP:20260424T023558
CREATED:20211210T093823Z
LAST-MODIFIED:20211210T093823Z
UID:8780-1641081600-1641167999@skanefriidrott.org
SUMMARY:Resultattävling Klippan höjd\, längd kula
DESCRIPTION:
URL:https://skanefriidrott.org/event/resultattavling-klippan-hojd-langd-kula/
CATEGORIES:Arena,Klubbtävling,Tävlingar
END:VEVENT
BEGIN:VEVENT
DTSTART;VALUE=DATE:20220103
DTEND;VALUE=DATE:20220104
DTSTAMP:20260424T023558
CREATED:20211124T124247Z
LAST-MODIFIED:20211124T124247Z
UID:8747-1641168000-1641254399@skanefriidrott.org
SUMMARY:Resultattävling tresteg - Kristianstad
DESCRIPTION:
URL:https://skanefriidrott.org/event/resultattavling-tresteg-kristianstad/
CATEGORIES:Arena,Klubbtävling,Tävlingar
END:VEVENT
BEGIN:VEVENT
DTSTART;VALUE=DATE:20220104
DTEND;VALUE=DATE:20220105
DTSTAMP:20260424T023558
CREATED:20211227T114548Z
LAST-MODIFIED:20211227T114548Z
UID:8809-1641254400-1641340799@skanefriidrott.org
SUMMARY:Resultattävling  längd och vikt  Kristianstad
DESCRIPTION:
URL:https://skanefriidrott.org/event/resultattavling-langd-och-vikt-kristianstad/
CATEGORIES:Arena,Tävlingar
END:VEVENT
BEGIN:VEVENT
DTSTART;TZID=Europe/Stockholm:20220104T170000
DTEND;TZID=Europe/Stockholm:20220104T190000
DTSTAMP:20260424T023558
CREATED:20211222T121808Z
LAST-MODIFIED:20211222T121808Z
UID:8796-1641315600-1641322800@skanefriidrott.org
SUMMARY:Klubbtävling stav MAI
DESCRIPTION:
URL:https://skanefriidrott.org/event/klubbtavling-stav-mai/
CATEGORIES:Arena,Klubbtävling,Tävlingar
END:VEVENT
BEGIN:VEVENT
DTSTART;VALUE=DATE:20220106
DTEND;VALUE=DATE:20220107
DTSTAMP:20260424T023558
CREATED:20211227T114724Z
LAST-MODIFIED:20211227T114724Z
UID:8811-1641427200-1641513599@skanefriidrott.org
SUMMARY:Resultat tävling 60m\, 60m häck och höjd Kristianstad
DESCRIPTION:
URL:https://skanefriidrott.org/event/resultat-tavling-60m-60m-hack-och-hojd-kristianstad/
CATEGORIES:Arena,Tävlingar
END:VEVENT
BEGIN:VEVENT
DTSTART;VALUE=DATE:20220106
DTEND;VALUE=DATE:20220107
DTSTAMP:20260424T023558
CREATED:20220103T111121Z
LAST-MODIFIED:20220103T111121Z
UID:8820-1641427200-1641513599@skanefriidrott.org
SUMMARY:Järnkulan
DESCRIPTION:
URL:https://skanefriidrott.org/event/jarnkulan/
CATEGORIES:Arena,Tävlingar
END:VEVENT
BEGIN:VEVENT
DTSTART;VALUE=DATE:20220107
DTEND;VALUE=DATE:20220108
DTSTAMP:20260424T023558
CREATED:20211227T114828Z
LAST-MODIFIED:20211227T114828Z
UID:8813-1641513600-1641599999@skanefriidrott.org
SUMMARY:Resultat tävling stav och kula Kristianstad
DESCRIPTION:
URL:https://skanefriidrott.org/event/resultat-tavling-stav-och-kula-kristianstad/
CATEGORIES:Arena,Tävlingar
END:VEVENT
BEGIN:VEVENT
DTSTART;TZID=Europe/Stockholm:20220108T100000
DTEND;TZID=Europe/Stockholm:20220108T170000
DTSTAMP:20260424T023558
CREATED:20211109T101548Z
LAST-MODIFIED:20211109T101548Z
UID:8735-1641636000-1641661200@skanefriidrott.org
SUMMARY:Inbjudan träningsdag 8 januari 2022 för alla födda 2008-2009
DESCRIPTION:Inbjudan till träningsdag på Atleticum för aktiva födda 2008 och 2009 i Skåne \nSkicka anmälan till kansli@skanefriidrott.org senast den 16 december. Nämn följande i anmälan\, se bilaga \n– Namn på de aktive eller ledare som är intresserade av att delta under dagen; \n– Vilka grenar som ungdomarna vill träna under dagen; \n– Allergier eller specialkost; \n– Kontaktuppgifter på aktive; \n– Vem som är klubbens kontaktperson. Namn\, email och telefonnummer. \n  \nTidpunkt: 8 januari \nTid: 10.00 – 17.00 \nPlats: Atleticum\, Eric Perssons väg 53\, Malmö \nKostnad: 150 kronor (inkluderar lunch\, mellanmål och dagens aktivitetspunkter) \nFaktureras klubben \nAnmälan: 16 december
URL:https://skanefriidrott.org/event/inbjudan-traningsdag-8-januari-2022-for-alla-fodda-2008-2009/
LOCATION:Malmö AI\, Malmö
CATEGORIES:Läger
ORGANIZER;CN="Sk%C3%A5nes%20Friidrottsf%C3%B6rbund":MAILTO:kansli@skanefriidrott.org
END:VEVENT
BEGIN:VEVENT
DTSTART;VALUE=DATE:20220109
DTEND;VALUE=DATE:20220110
DTSTAMP:20260424T023558
CREATED:20220103T110215Z
LAST-MODIFIED:20220103T110215Z
UID:8816-1641686400-1641772799@skanefriidrott.org
SUMMARY:Resultattävling Kristianstad
DESCRIPTION:
URL:https://skanefriidrott.org/event/resultattavling-kristianstad-3/
CATEGORIES:Arena,Tävlingar
END:VEVENT
BEGIN:VEVENT
DTSTART;TZID=Europe/Stockholm:20220109T120000
DTEND;TZID=Europe/Stockholm:20220109T150000
DTSTAMP:20260424T023558
CREATED:20211208T181009Z
LAST-MODIFIED:20211208T180816Z
UID:8769-1641729600-1641740400@skanefriidrott.org
SUMMARY:MalmoeSprint
DESCRIPTION:Inbjudan MalmoeSprint 2022
URL:https://skanefriidrott.org/event/malmoesprint/
CATEGORIES:Arena,Tävlingar
END:VEVENT
BEGIN:VEVENT
DTSTART;TZID=Europe/Stockholm:20220109T120000
DTEND;TZID=Europe/Stockholm:20220109T150000
DTSTAMP:20260424T023558
CREATED:20211222T121911Z
LAST-MODIFIED:20211222T121911Z
UID:8798-1641729600-1641740400@skanefriidrott.org
SUMMARY:Klubbtävling stav MAI
DESCRIPTION:
URL:https://skanefriidrott.org/event/klubbtavling-stav-mai-2/
CATEGORIES:Arena,Klubbtävling,Tävlingar
END:VEVENT
BEGIN:VEVENT
DTSTART;TZID=Europe/Stockholm:20220115T100000
DTEND;TZID=Europe/Stockholm:20220115T130000
DTSTAMP:20260424T023558
CREATED:20211222T122001Z
LAST-MODIFIED:20211222T122001Z
UID:8800-1642240800-1642251600@skanefriidrott.org
SUMMARY:Klubbtävling stav MAI
DESCRIPTION:
URL:https://skanefriidrott.org/event/klubbtavling-stav-mai-3/
CATEGORIES:Arena,Klubbtävling,Tävlingar
END:VEVENT
BEGIN:VEVENT
DTSTART;VALUE=DATE:20220116
DTEND;VALUE=DATE:20220117
DTSTAMP:20260424T023558
CREATED:20220115T230000Z
LAST-MODIFIED:20211208T121526Z
UID:8705-1642291200-1642377599@skanefriidrott.org
SUMMARY:Sprinterträffen
DESCRIPTION:
URL:http://ifklund.se/arrangemang/sprintertraffen/#new_tab
CATEGORIES:Arena,Masters,Tävlingar
END:VEVENT
BEGIN:VEVENT
DTSTART;VALUE=DATE:20220122
DTEND;VALUE=DATE:20220123
DTSTAMP:20260424T023558
CREATED:20220118T094930Z
LAST-MODIFIED:20220118T094930Z
UID:8838-1642809600-1642895999@skanefriidrott.org
SUMMARY:Resultattävling vikt kula
DESCRIPTION:
URL:https://skanefriidrott.org/event/resultattavling-vikt-kula/
CATEGORIES:Arena,Tävlingar
END:VEVENT
BEGIN:VEVENT
DTSTART;VALUE=DATE:20220129
DTEND;VALUE=DATE:20220130
DTSTAMP:20260424T023558
CREATED:20220119T083720Z
LAST-MODIFIED:20220119T083720Z
UID:8925-1643414400-1643500799@skanefriidrott.org
SUMMARY:GGP 800m
DESCRIPTION:
URL:https://isgotafriidrott.se/ggp/#new_tab
CATEGORIES:Arena,Tävlingar
END:VEVENT
BEGIN:VEVENT
DTSTART;VALUE=DATE:20220129
DTEND;VALUE=DATE:20220130
DTSTAMP:20260424T023558
CREATED:20220119T091028Z
LAST-MODIFIED:20220119T091028Z
UID:8931-1643414400-1643500799@skanefriidrott.org
SUMMARY:Resultattävling Malmö
DESCRIPTION:
URL:https://skanefriidrott.org/event/resultattavling-malmo-3/
CATEGORIES:Arena,Tävlingar
END:VEVENT
BEGIN:VEVENT
DTSTART;VALUE=DATE:20220130
DTEND;VALUE=DATE:20220131
DTSTAMP:20260424T023558
CREATED:20220119T091114Z
LAST-MODIFIED:20220119T091114Z
UID:8933-1643500800-1643587199@skanefriidrott.org
SUMMARY:Resultattävling Malmö
DESCRIPTION:
URL:https://skanefriidrott.org/event/resultattavling-malmo-4/
CATEGORIES:Arena,Tävlingar
END:VEVENT
BEGIN:VEVENT
DTSTART;VALUE=DATE:20220205
DTEND;VALUE=DATE:20220206
DTSTAMP:20260424T023558
CREATED:20211007T093540Z
LAST-MODIFIED:20211007T093540Z
UID:8694-1644019200-1644105599@skanefriidrott.org
SUMMARY:Åhus Indoor
DESCRIPTION:
URL:http://www.ahusfik.se/start/?ID=187413#new_tab
CATEGORIES:Arena,Tävlingar
END:VEVENT
END:VCALENDAR