BEGIN:VCALENDAR
VERSION:2.0
PRODID:-//Skånes Friidrottsförbund - ECPv5.5.0.1//NONSGML v1.0//EN
CALSCALE:GREGORIAN
METHOD:PUBLISH
X-WR-CALNAME:Skånes Friidrottsförbund
X-ORIGINAL-URL:https://skanefriidrott.org
X-WR-CALDESC:Events for Skånes Friidrottsförbund
BEGIN:VTIMEZONE
TZID:Europe/Stockholm
BEGIN:DAYLIGHT
TZOFFSETFROM:+0100
TZOFFSETTO:+0200
TZNAME:CEST
DTSTART:20220327T010000
END:DAYLIGHT
BEGIN:STANDARD
TZOFFSETFROM:+0200
TZOFFSETTO:+0100
TZNAME:CET
DTSTART:20221030T010000
END:STANDARD
END:VTIMEZONE
BEGIN:VEVENT
DTSTART;VALUE=DATE:20220204
DTEND;VALUE=DATE:20220207
DTSTAMP:20260424T010406
CREATED:20211007T092227Z
LAST-MODIFIED:20211007T092227Z
UID:8686-1643932800-1644191999@skanefriidrott.org
SUMMARY:Åhus Indoor
DESCRIPTION:
URL:http://www.ahusfik.se/start/?ID=187413#new_tab
CATEGORIES:Arena,Tävlingar
END:VEVENT
BEGIN:VEVENT
DTSTART;VALUE=DATE:20220205
DTEND;VALUE=DATE:20220206
DTSTAMP:20260424T010406
CREATED:20211007T093540Z
LAST-MODIFIED:20211007T093540Z
UID:8694-1644019200-1644105599@skanefriidrott.org
SUMMARY:Åhus Indoor
DESCRIPTION:
URL:http://www.ahusfik.se/start/?ID=187413#new_tab
CATEGORIES:Arena,Tävlingar
END:VEVENT
BEGIN:VEVENT
DTSTART;VALUE=DATE:20220206
DTEND;VALUE=DATE:20220207
DTSTAMP:20260424T010406
CREATED:20211007T093631Z
LAST-MODIFIED:20211007T093631Z
UID:8696-1644105600-1644191999@skanefriidrott.org
SUMMARY:Åhus Indoor
DESCRIPTION:
URL:http://www.ahusfik.se/start/?ID=187413
CATEGORIES:Arena,Tävlingar
END:VEVENT
BEGIN:VEVENT
DTSTART;TZID=Europe/Stockholm:20220206T080000
DTEND;TZID=Europe/Stockholm:20220206T170000
DTSTAMP:20260424T010406
CREATED:20220201T111343Z
LAST-MODIFIED:20220201T111343Z
UID:8976-1644134400-1644166800@skanefriidrott.org
SUMMARY:Resultattävling kula längd Helsingborg
DESCRIPTION:
URL:https://skanefriidrott.org/event/resultattavling-kula-langd-helsingborg/
CATEGORIES:Arena,Tävlingar
END:VEVENT
BEGIN:VEVENT
DTSTART;VALUE=DATE:20220212
DTEND;VALUE=DATE:20220214
DTSTAMP:20260424T010406
CREATED:20211007T092346Z
LAST-MODIFIED:20220117T131041Z
UID:8688-1644624000-1644796799@skanefriidrott.org
SUMMARY:Atleticumspelen inställt
DESCRIPTION:
URL:https://heleneholmsif.se/arrangemang/#new_tab
CATEGORIES:Arena,Tävlingar
END:VEVENT
BEGIN:VEVENT
DTSTART;VALUE=DATE:20220212
DTEND;VALUE=DATE:20220213
DTSTAMP:20260424T010406
CREATED:20220119T083833Z
LAST-MODIFIED:20220119T083833Z
UID:8927-1644624000-1644710399@skanefriidrott.org
SUMMARY:GGP 1000m
DESCRIPTION:
URL:https://isgotafriidrott.se/ggp/#new_tab
CATEGORIES:Arena,Tävlingar
END:VEVENT
BEGIN:VEVENT
DTSTART;VALUE=DATE:20220212
DTEND;VALUE=DATE:20220213
DTSTAMP:20260424T010406
CREATED:20220129T230000Z
LAST-MODIFIED:20220117T131103Z
UID:8692-1644624000-1644710399@skanefriidrott.org
SUMMARY:Pallasspelen
DESCRIPTION:
URL:https://idrottonline.se/IKPallas-Friidrott/Pallasspelen#new_tab
CATEGORIES:Arena,Tävlingar
END:VEVENT
BEGIN:VEVENT
DTSTART;VALUE=DATE:20220213
DTEND;VALUE=DATE:20220214
DTSTAMP:20260424T010406
CREATED:20211007T093744Z
LAST-MODIFIED:20220117T131032Z
UID:8698-1644710400-1644796799@skanefriidrott.org
SUMMARY:Atleticumspelen- inställt
DESCRIPTION:
URL:https://heleneholmsif.se/arrangemang/#new_tab
CATEGORIES:Arena,Tävlingar
END:VEVENT
BEGIN:VEVENT
DTSTART;VALUE=DATE:20220213
DTEND;VALUE=DATE:20220214
DTSTAMP:20260424T010406
CREATED:20220128T230000Z
LAST-MODIFIED:20220117T131208Z
UID:8683-1644710400-1644796799@skanefriidrott.org
SUMMARY:Pallasspelen
DESCRIPTION:3
URL:https://idrottonline.se/IKPallas-Friidrott/Pallasspelen#new_tab
CATEGORIES:Arena,Tävlingar
END:VEVENT
BEGIN:VEVENT
DTSTART;VALUE=DATE:20220218
DTEND;VALUE=DATE:20220219
DTSTAMP:20260424T010406
CREATED:20220215T105537Z
LAST-MODIFIED:20220215T105537Z
UID:9039-1645142400-1645228799@skanefriidrott.org
SUMMARY:Resultattävling Åhus
DESCRIPTION:
URL:https://skanefriidrott.org/event/resultattavling-ahus-5/
CATEGORIES:Arena,Tävlingar
END:VEVENT
BEGIN:VEVENT
DTSTART;VALUE=DATE:20220219
DTEND;VALUE=DATE:20220220
DTSTAMP:20260424T010406
CREATED:20220209T104151Z
LAST-MODIFIED:20220214T141452Z
UID:8982-1645228800-1645315199@skanefriidrott.org
SUMMARY:Resultattävling stav\, kula Malmö
DESCRIPTION:
URL:https://skanefriidrott.org/event/resultattavling-stav-malmo/
CATEGORIES:Arena,Tävlingar
END:VEVENT
BEGIN:VEVENT
DTSTART;VALUE=DATE:20220220
DTEND;VALUE=DATE:20220221
DTSTAMP:20260424T010406
CREATED:20220214T141126Z
LAST-MODIFIED:20220214T141420Z
UID:8985-1645315200-1645401599@skanefriidrott.org
SUMMARY:Resultattävling  60m\, 60m häck Helsingborg
DESCRIPTION:
URL:https://skanefriidrott.org/event/resultattavling-60m-60m-hack-helsingborg/
CATEGORIES:Arena,Klubbtävling,Tävlingar
END:VEVENT
BEGIN:VEVENT
DTSTART;VALUE=DATE:20220221
DTEND;VALUE=DATE:20220222
DTSTAMP:20260424T010406
CREATED:20220216T213540Z
LAST-MODIFIED:20220216T213555Z
UID:9050-1645401600-1645487999@skanefriidrott.org
SUMMARY:Resultattävling tresteg Åhus
DESCRIPTION:
URL:https://skanefriidrott.org/event/resultattavling-tresteg/
CATEGORIES:Arena,Tävlingar
END:VEVENT
BEGIN:VEVENT
DTSTART;VALUE=DATE:20220222
DTEND;VALUE=DATE:20220223
DTSTAMP:20260424T010406
CREATED:20220214T141254Z
LAST-MODIFIED:20220214T141254Z
UID:8987-1645488000-1645574399@skanefriidrott.org
SUMMARY:Resultattävling tresteg \, höjd Helsingborg
DESCRIPTION:
URL:https://skanefriidrott.org/event/resultattavling-tresteg-hojd-helsingborg/
CATEGORIES:Arena,Tävlingar
END:VEVENT
BEGIN:VEVENT
DTSTART;VALUE=DATE:20220226
DTEND;VALUE=DATE:20220227
DTSTAMP:20260424T010406
CREATED:20220223T192017Z
LAST-MODIFIED:20220223T192136Z
UID:9066-1645833600-1645919999@skanefriidrott.org
SUMMARY:Resultattävling kula vikt Åhus
DESCRIPTION:
URL:https://skanefriidrott.org/event/resultattavling-kula-vikt-ahus-2/
CATEGORIES:Arena,Tävlingar
END:VEVENT
BEGIN:VEVENT
DTSTART;VALUE=DATE:20220302
DTEND;VALUE=DATE:20220303
DTSTAMP:20260424T010406
CREATED:20220301T093448Z
LAST-MODIFIED:20220301T093448Z
UID:9070-1646179200-1646265599@skanefriidrott.org
SUMMARY:Malmökastet
DESCRIPTION:
URL:https://skanefriidrott.org/event/malmokastet/
CATEGORIES:Arena,Tävlingar
END:VEVENT
BEGIN:VEVENT
DTSTART;VALUE=DATE:20220305
DTEND;VALUE=DATE:20220306
DTSTAMP:20260424T010406
CREATED:20220104T230000Z
LAST-MODIFIED:20220118T133021Z
UID:8690-1646438400-1646524799@skanefriidrott.org
SUMMARY:Malmö Indoor Challenge
DESCRIPTION:
URL:https://www.mai.se/arrangemang/#new_tab
CATEGORIES:Arena,Masters,Tävlingar
END:VEVENT
END:VCALENDAR