BEGIN:VCALENDAR
VERSION:2.0
PRODID:-//Skånes Friidrottsförbund - ECPv5.5.0.1//NONSGML v1.0//EN
CALSCALE:GREGORIAN
METHOD:PUBLISH
X-WR-CALNAME:Skånes Friidrottsförbund
X-ORIGINAL-URL:https://skanefriidrott.org
X-WR-CALDESC:Events for Skånes Friidrottsförbund
BEGIN:VTIMEZONE
TZID:Europe/Stockholm
BEGIN:DAYLIGHT
TZOFFSETFROM:+0100
TZOFFSETTO:+0200
TZNAME:CEST
DTSTART:20220327T010000
END:DAYLIGHT
BEGIN:STANDARD
TZOFFSETFROM:+0200
TZOFFSETTO:+0100
TZNAME:CET
DTSTART:20221030T010000
END:STANDARD
END:VTIMEZONE
BEGIN:VEVENT
DTSTART;VALUE=DATE:20220302
DTEND;VALUE=DATE:20220303
DTSTAMP:20260423T234108
CREATED:20220301T093448Z
LAST-MODIFIED:20220301T093448Z
UID:9070-1646179200-1646265599@skanefriidrott.org
SUMMARY:Malmökastet
DESCRIPTION:
URL:https://skanefriidrott.org/event/malmokastet/
CATEGORIES:Arena,Tävlingar
END:VEVENT
BEGIN:VEVENT
DTSTART;VALUE=DATE:20220305
DTEND;VALUE=DATE:20220306
DTSTAMP:20260423T234108
CREATED:20220104T230000Z
LAST-MODIFIED:20220118T133021Z
UID:8690-1646438400-1646524799@skanefriidrott.org
SUMMARY:Malmö Indoor Challenge
DESCRIPTION:
URL:https://www.mai.se/arrangemang/#new_tab
CATEGORIES:Arena,Masters,Tävlingar
END:VEVENT
BEGIN:VEVENT
DTSTART;VALUE=DATE:20220306
DTEND;VALUE=DATE:20220307
DTSTAMP:20260423T234108
CREATED:20220114T230000Z
LAST-MODIFIED:20220217T075528Z
UID:8681-1646524800-1646611199@skanefriidrott.org
SUMMARY:Malmö Indoor Challenge VDM
DESCRIPTION:
URL:https://www.mai.se/arrangemang/#new_tab
CATEGORIES:Arena,Masters,Tävlingar
END:VEVENT
BEGIN:VEVENT
DTSTART;VALUE=DATE:20220309
DTEND;VALUE=DATE:20220313
DTSTAMP:20260423T234108
CREATED:20220120T074407Z
LAST-MODIFIED:20220121T083934Z
UID:8951-1646784000-1647129599@skanefriidrott.org
SUMMARY:Uppstartslopp Lundaloppet
DESCRIPTION:
URL:https://skanefriidrott.org/event/uppstartslopp-lundaloppet-2/
CATEGORIES:Landsväg,Långlopp,Tävlingar
END:VEVENT
BEGIN:VEVENT
DTSTART;VALUE=DATE:20220310
DTEND;VALUE=DATE:20220311
DTSTAMP:20260423T234108
CREATED:20220307T112233Z
LAST-MODIFIED:20220307T112233Z
UID:9076-1646870400-1646956799@skanefriidrott.org
SUMMARY:Resultattävling längd Åhus
DESCRIPTION:
URL:https://skanefriidrott.org/event/resultattavling-langd-ahus/
CATEGORIES:Arena,Tävlingar
END:VEVENT
BEGIN:VEVENT
DTSTART;VALUE=DATE:20220312
DTEND;VALUE=DATE:20220313
DTSTAMP:20260423T234108
CREATED:20220307T112327Z
LAST-MODIFIED:20220307T112327Z
UID:9078-1647043200-1647129599@skanefriidrott.org
SUMMARY:Resultattävling kula\, vikt Åhus
DESCRIPTION:
URL:https://skanefriidrott.org/event/resultattavling-kula-vikt-ahus-3/
CATEGORIES:Arena,Tävlingar
END:VEVENT
BEGIN:VEVENT
DTSTART;VALUE=DATE:20220313
DTEND;VALUE=DATE:20220314
DTSTAMP:20260423T234108
CREATED:20220219T213447Z
LAST-MODIFIED:20220315T132544Z
UID:9055-1647129600-1647215999@skanefriidrott.org
SUMMARY:Resultattävling stav
DESCRIPTION:
URL:https://skanefriidrott.org/event/resultattavling-stav-ahus/
CATEGORIES:Arena,Tävlingar
END:VEVENT
BEGIN:VEVENT
DTSTART;VALUE=DATE:20220319
DTEND;VALUE=DATE:20220320
DTSTAMP:20260423T234108
CREATED:20220119T083936Z
LAST-MODIFIED:20220313T220023Z
UID:8929-1647648000-1647734399@skanefriidrott.org
SUMMARY:GGP 1500m Skånskt Mästerskap
DESCRIPTION:
URL:https://isgotafriidrott.se/wp-content/uploads/2022/01/1500m-2022-inne.pdf#new_tab
CATEGORIES:Arena,Tävlingar
END:VEVENT
BEGIN:VEVENT
DTSTART;VALUE=DATE:20220323
DTEND;VALUE=DATE:20220324
DTSTAMP:20260423T234108
CREATED:20220329T080612Z
LAST-MODIFIED:20220329T080612Z
UID:9118-1647993600-1648079999@skanefriidrott.org
SUMMARY:Löptävling 3km bana
DESCRIPTION:
URL:https://skanefriidrott.org/event/loptavling-3km-bana/
CATEGORIES:Arena,Tävlingar
END:VEVENT
BEGIN:VEVENT
DTSTART;VALUE=DATE:20220326
DTEND;VALUE=DATE:20220327
DTSTAMP:20260423T234108
CREATED:20220326T070000Z
LAST-MODIFIED:20220121T083913Z
UID:8857-1648252800-1648339199@skanefriidrott.org
SUMMARY:Höörsloppet Hejda Hungern
DESCRIPTION:
URL:https://skanefriidrott.org/event/hoorsloppet-hejda-hungern-3/
CATEGORIES:Landsväg,Långlopp,Tävlingar
END:VEVENT
BEGIN:VEVENT
DTSTART;TZID=Europe/Stockholm:20220327T080000
DTEND;TZID=Europe/Stockholm:20220327T170000
DTSTAMP:20260423T234108
CREATED:20220103T110609Z
LAST-MODIFIED:20220103T110609Z
UID:8818-1648368000-1648400400@skanefriidrott.org
SUMMARY:Kretstävling Helsingborg
DESCRIPTION:
URL:https://skanefriidrott.org/event/kretstavling-helsingborg/
CATEGORIES:Arena,Tävlingar
END:VEVENT
BEGIN:VEVENT
DTSTART;VALUE=DATE:20220402
DTEND;VALUE=DATE:20220403
DTSTAMP:20260423T234108
CREATED:20220326T070000Z
LAST-MODIFIED:20220118T091420Z
UID:8833-1648857600-1648943999@skanefriidrott.org
SUMMARY:Varvetmilen
DESCRIPTION:
URL:https://skanefriidrott.org/event/hoorsloppet-hejda-hungern-2/
CATEGORIES:10km,Långlopp,Tävlingar
END:VEVENT
END:VCALENDAR