BEGIN:VCALENDAR
VERSION:2.0
PRODID:-//Skånes Friidrottsförbund - ECPv5.5.0.1//NONSGML v1.0//EN
CALSCALE:GREGORIAN
METHOD:PUBLISH
X-WR-CALNAME:Skånes Friidrottsförbund
X-ORIGINAL-URL:https://skanefriidrott.org
X-WR-CALDESC:Events for Skånes Friidrottsförbund
BEGIN:VTIMEZONE
TZID:Europe/Stockholm
BEGIN:DAYLIGHT
TZOFFSETFROM:+0100
TZOFFSETTO:+0200
TZNAME:CEST
DTSTART:20220327T010000
END:DAYLIGHT
BEGIN:STANDARD
TZOFFSETFROM:+0200
TZOFFSETTO:+0100
TZNAME:CET
DTSTART:20221030T010000
END:STANDARD
END:VTIMEZONE
BEGIN:VEVENT
DTSTART;VALUE=DATE:20220430
DTEND;VALUE=DATE:20220501
DTSTAMP:20260423T202728
CREATED:20220425T205353Z
LAST-MODIFIED:20220425T205353Z
UID:9172-1651276800-1651363199@skanefriidrott.org
SUMMARY:Resultattävling Kristianstad
DESCRIPTION:
URL:https://skanefriidrott.org/event/resultattavling-kristianstad-4/
CATEGORIES:Arena,Tävlingar
END:VEVENT
BEGIN:VEVENT
DTSTART;VALUE=DATE:20220501
DTEND;VALUE=DATE:20220502
DTSTAMP:20260423T202728
CREATED:20220501T060000Z
LAST-MODIFIED:20220121T083529Z
UID:8851-1651363200-1651449599@skanefriidrott.org
SUMMARY:Risenloppet 10\,7 / 5 km
DESCRIPTION:
URL:https://skanefriidrott.org/event/risenloppet-107-5-km/
CATEGORIES:Landsväg,Långlopp,Tävlingar
END:VEVENT
BEGIN:VEVENT
DTSTART;VALUE=DATE:20220502
DTEND;VALUE=DATE:20220503
DTSTAMP:20260423T202728
CREATED:20220502T060000Z
LAST-MODIFIED:20220121T083456Z
UID:8853-1651449600-1651535999@skanefriidrott.org
SUMMARY:Vårruset Malmö
DESCRIPTION:
URL:https://skanefriidrott.org/event/varruset-malmo/
CATEGORIES:5km,Långlopp,Tävlingar
END:VEVENT
BEGIN:VEVENT
DTSTART;VALUE=DATE:20220503
DTEND;VALUE=DATE:20220504
DTSTAMP:20260423T202728
CREATED:20220503T060000Z
LAST-MODIFIED:20220121T083437Z
UID:8855-1651536000-1651622399@skanefriidrott.org
SUMMARY:Vårruset Helsingborg
DESCRIPTION:
URL:https://skanefriidrott.org/event/varruset-helsingborg/
CATEGORIES:5km,Långlopp,Tävlingar
END:VEVENT
BEGIN:VEVENT
DTSTART;VALUE=DATE:20220507
DTEND;VALUE=DATE:20220508
DTSTAMP:20260423T202728
CREATED:20220214T150704Z
LAST-MODIFIED:20220214T150704Z
UID:8992-1651881600-1651967999@skanefriidrott.org
SUMMARY:Vårkampen
DESCRIPTION:
URL:http://varkampen.hais.info/#new_tab
CATEGORIES:Arena,Tävlingar
END:VEVENT
BEGIN:VEVENT
DTSTART;VALUE=DATE:20220507
DTEND;VALUE=DATE:20220508
DTSTAMP:20260423T202728
CREATED:20220507T060000Z
LAST-MODIFIED:20220121T083416Z
UID:8859-1651881600-1651967999@skanefriidrott.org
SUMMARY:Lundaloppet
DESCRIPTION:
URL:https://skanefriidrott.org/event/lundaloppet-2/
CATEGORIES:Landsväg,Långlopp,Tävlingar
END:VEVENT
BEGIN:VEVENT
DTSTART;TZID=Europe/Stockholm:20220507T093000
DTEND;TZID=Europe/Stockholm:20220507T170000
DTSTAMP:20260423T202728
CREATED:20220403T200548Z
LAST-MODIFIED:20220403T200548Z
UID:9137-1651915800-1651942800@skanefriidrott.org
SUMMARY:GGP 2000m
DESCRIPTION:2000 m Heden
URL:https://skanefriidrott.org/event/ggp-2000m/
CATEGORIES:Arena,Tävlingar
END:VEVENT
BEGIN:VEVENT
DTSTART;VALUE=DATE:20220508
DTEND;VALUE=DATE:20220509
DTSTAMP:20260423T202728
CREATED:20220508T060000Z
LAST-MODIFIED:20220121T083336Z
UID:8863-1651968000-1652054399@skanefriidrott.org
SUMMARY:Humlestafetten
DESCRIPTION:
URL:https://skanefriidrott.org/event/humlestafetten-2/
CATEGORIES:Långlopp,Stafett,Tävlingar
END:VEVENT
BEGIN:VEVENT
DTSTART;VALUE=DATE:20220510
DTEND;VALUE=DATE:20220511
DTSTAMP:20260423T202728
CREATED:20220510T060000Z
LAST-MODIFIED:20220121T083306Z
UID:8865-1652140800-1652227199@skanefriidrott.org
SUMMARY:Sparbanksloppet
DESCRIPTION:
URL:https://skanefriidrott.org/event/sparbanksloppet-2/
CATEGORIES:Landsväg,Långlopp,Tävlingar
END:VEVENT
BEGIN:VEVENT
DTSTART;VALUE=DATE:20220512
DTEND;VALUE=DATE:20220513
DTSTAMP:20260423T202728
CREATED:20220509T131250Z
LAST-MODIFIED:20220509T131250Z
UID:9188-1652313600-1652399999@skanefriidrott.org
SUMMARY:Resultattävling Stav Malmö
DESCRIPTION:
URL:https://skanefriidrott.org/event/resultattavling-stav-malmo-2/
CATEGORIES:Arena,Tävlingar
END:VEVENT
BEGIN:VEVENT
DTSTART;VALUE=DATE:20220512
DTEND;VALUE=DATE:20220513
DTSTAMP:20260423T202728
CREATED:20220511T110457Z
LAST-MODIFIED:20220511T110457Z
UID:9190-1652313600-1652399999@skanefriidrott.org
SUMMARY:Resultattävling spjut  Kristianstad
DESCRIPTION:
URL:https://skanefriidrott.org/event/resultattavling-spjut-kristianstad/
CATEGORIES:Arena,Tävlingar
END:VEVENT
BEGIN:VEVENT
DTSTART;VALUE=DATE:20220514
DTEND;VALUE=DATE:20220515
DTSTAMP:20260423T202728
CREATED:20220514T060000Z
LAST-MODIFIED:20220121T083232Z
UID:8867-1652486400-1652572799@skanefriidrott.org
SUMMARY:Lejonbragden
DESCRIPTION:
URL:https://skanefriidrott.org/event/lejonbragden/
CATEGORIES:Landsväg,Långlopp,Tävlingar
END:VEVENT
BEGIN:VEVENT
DTSTART;VALUE=DATE:20220517
DTEND;VALUE=DATE:20220518
DTSTAMP:20260423T202728
CREATED:20220517T060000Z
LAST-MODIFIED:20220121T083138Z
UID:8870-1652745600-1652831999@skanefriidrott.org
SUMMARY:Blodomloppet Malmö
DESCRIPTION:
URL:https://skanefriidrott.org/event/blodomloppet-malmo/
CATEGORIES:10km,5km,Långlopp,Tävlingar
END:VEVENT
BEGIN:VEVENT
DTSTART;VALUE=DATE:20220521
DTEND;VALUE=DATE:20220522
DTSTAMP:20260423T202728
CREATED:20220214T150901Z
LAST-MODIFIED:20220214T150901Z
UID:8994-1653091200-1653177599@skanefriidrott.org
SUMMARY:Pannkaksspelen
DESCRIPTION:
URL:https://pannkaksspelen.se/#new_tab
CATEGORIES:Arena,Tävlingar
END:VEVENT
BEGIN:VEVENT
DTSTART;VALUE=DATE:20220521
DTEND;VALUE=DATE:20220522
DTSTAMP:20260423T202728
CREATED:20220523T084357Z
LAST-MODIFIED:20220523T084607Z
UID:9217-1653091200-1653177599@skanefriidrott.org
SUMMARY:Resultattävling stav Malmö
DESCRIPTION:
URL:https://skanefriidrott.org/event/resultattavling-stav-malmo-4/
CATEGORIES:Arena,Tävlingar
END:VEVENT
BEGIN:VEVENT
DTSTART;VALUE=DATE:20220522
DTEND;VALUE=DATE:20220523
DTSTAMP:20260423T202728
CREATED:20220521T220000Z
LAST-MODIFIED:20220214T151500Z
UID:8996-1653177600-1653263999@skanefriidrott.org
SUMMARY:Pannkaksspelen
DESCRIPTION:
URL:https://pannkaksspelen.se/#new_tab
CATEGORIES:Arena,Tävlingar
END:VEVENT
BEGIN:VEVENT
DTSTART;VALUE=DATE:20220524
DTEND;VALUE=DATE:20220525
DTSTAMP:20260423T202728
CREATED:20220214T151616Z
LAST-MODIFIED:20220214T151616Z
UID:8998-1653350400-1653436799@skanefriidrott.org
SUMMARY:Heleneholms Vårtävling
DESCRIPTION:
URL:https://heleneholmsif.se/arrangemang/#new_tab
CATEGORIES:Arena,Tävlingar
END:VEVENT
BEGIN:VEVENT
DTSTART;VALUE=DATE:20220524
DTEND;VALUE=DATE:20220525
DTSTAMP:20260423T202728
CREATED:20220523T084121Z
LAST-MODIFIED:20220523T084121Z
UID:9215-1653350400-1653436799@skanefriidrott.org
SUMMARY:Resultattävling stav Malmö
DESCRIPTION:
URL:https://skanefriidrott.org/event/resultattavling-stav-malmo-3/
CATEGORIES:Arena,Tävlingar
END:VEVENT
BEGIN:VEVENT
DTSTART;VALUE=DATE:20220526
DTEND;VALUE=DATE:20220527
DTSTAMP:20260423T202728
CREATED:20220526T060000Z
LAST-MODIFIED:20220121T083114Z
UID:8872-1653523200-1653609599@skanefriidrott.org
SUMMARY:SkM 10 000 m
DESCRIPTION:
URL:https://skanefriidrott.org/event/skm-10-000-m/
CATEGORIES:Arena,Tävlingar
END:VEVENT
BEGIN:VEVENT
DTSTART;VALUE=DATE:20220529
DTEND;VALUE=DATE:20220530
DTSTAMP:20260423T202728
CREATED:20220214T151914Z
LAST-MODIFIED:20220214T151914Z
UID:9000-1653782400-1653868799@skanefriidrott.org
SUMMARY:Bedaspelen
DESCRIPTION:
URL:https://skanefriidrott.org/event/bedaspelen-2/
CATEGORIES:Arena,Tävlingar
END:VEVENT
BEGIN:VEVENT
DTSTART;VALUE=DATE:20220602
DTEND;VALUE=DATE:20220603
DTSTAMP:20260423T202728
CREATED:20220523T084437Z
LAST-MODIFIED:20220523T084437Z
UID:9219-1654128000-1654214399@skanefriidrott.org
SUMMARY:Resultattävling stav Malmö
DESCRIPTION:
URL:https://skanefriidrott.org/event/resultattavling-stav-malmo-5/
CATEGORIES:Arena,Tävlingar
END:VEVENT
BEGIN:VEVENT
DTSTART;VALUE=DATE:20220604
DTEND;VALUE=DATE:20220605
DTSTAMP:20260423T202728
CREATED:20220214T152058Z
LAST-MODIFIED:20220214T152058Z
UID:9002-1654300800-1654387199@skanefriidrott.org
SUMMARY:Trelleborgsspelen
DESCRIPTION:
URL:https://www.trelleborgfriidrott.com/Arrangemang/#new_tab
CATEGORIES:Arena,Tävlingar
END:VEVENT
BEGIN:VEVENT
DTSTART;VALUE=DATE:20220604
DTEND;VALUE=DATE:20220605
DTSTAMP:20260423T202728
CREATED:20220523T084732Z
LAST-MODIFIED:20220523T084732Z
UID:9223-1654300800-1654387199@skanefriidrott.org
SUMMARY:Resultattävling kula Malmö
DESCRIPTION:
URL:https://skanefriidrott.org/event/resultattavling-kula-malmo/
CATEGORIES:Arena,Tävlingar
END:VEVENT
BEGIN:VEVENT
DTSTART;VALUE=DATE:20220604
DTEND;VALUE=DATE:20220605
DTSTAMP:20260423T202728
CREATED:20220603T064534Z
LAST-MODIFIED:20220603T064534Z
UID:9259-1654300800-1654387199@skanefriidrott.org
SUMMARY:Resultattävling
DESCRIPTION:
URL:https://skanefriidrott.org/event/resultattavling-3/
CATEGORIES:Arena,Tävlingar
END:VEVENT
BEGIN:VEVENT
DTSTART;VALUE=DATE:20220604
DTEND;VALUE=DATE:20220605
DTSTAMP:20260423T202728
CREATED:20220604T060000Z
LAST-MODIFIED:20220121T083033Z
UID:8875-1654300800-1654387199@skanefriidrott.org
SUMMARY:Springtime
DESCRIPTION:
URL:https://skanefriidrott.org/event/springtime/
CATEGORIES:Långlopp,Marathon,Tävlingar
END:VEVENT
BEGIN:VEVENT
DTSTART;VALUE=DATE:20220604
DTEND;VALUE=DATE:20220605
DTSTAMP:20260423T202728
CREATED:20220604T060000Z
LAST-MODIFIED:20220121T083054Z
UID:8877-1654300800-1654387199@skanefriidrott.org
SUMMARY:Sankt Hans eXtreme
DESCRIPTION:
URL:https://skanefriidrott.org/event/sankt-hans-extreme-2/
CATEGORIES:Långlopp,Tävlingar,Trail
END:VEVENT
END:VCALENDAR