BEGIN:VCALENDAR
VERSION:2.0
PRODID:-//Skånes Friidrottsförbund - ECPv5.5.0.1//NONSGML v1.0//EN
CALSCALE:GREGORIAN
METHOD:PUBLISH
X-WR-CALNAME:Skånes Friidrottsförbund
X-ORIGINAL-URL:https://skanefriidrott.org
X-WR-CALDESC:Events for Skånes Friidrottsförbund
BEGIN:VTIMEZONE
TZID:Europe/Stockholm
BEGIN:DAYLIGHT
TZOFFSETFROM:+0100
TZOFFSETTO:+0200
TZNAME:CEST
DTSTART:20220327T010000
END:DAYLIGHT
BEGIN:STANDARD
TZOFFSETFROM:+0200
TZOFFSETTO:+0100
TZNAME:CET
DTSTART:20221030T010000
END:STANDARD
END:VTIMEZONE
BEGIN:VEVENT
DTSTART;VALUE=DATE:20221203
DTEND;VALUE=DATE:20221204
DTSTAMP:20260423T093854
CREATED:20221031T105922Z
LAST-MODIFIED:20221031T105922Z
UID:9601-1670025600-1670111999@skanefriidrott.org
SUMMARY:Julchansen
DESCRIPTION:
URL:https://heleneholmsif.se/friidrott/arrangemang/sista-chansen/#new_tab
CATEGORIES:Arena,Tävlingar
END:VEVENT
BEGIN:VEVENT
DTSTART;VALUE=DATE:20221203
DTEND;VALUE=DATE:20221204
DTSTAMP:20260423T093854
CREATED:20221203T070000Z
LAST-MODIFIED:20220121T075750Z
UID:8919-1670025600-1670111999@skanefriidrott.org
SUMMARY:Åhus TrailRun
DESCRIPTION:
URL:https://skanefriidrott.org/event/ahus-trailrun-2/
CATEGORIES:Långlopp,Spring i Skånes Trailcup,Tävlingar,Trail
END:VEVENT
BEGIN:VEVENT
DTSTART;VALUE=DATE:20221210
DTEND;VALUE=DATE:20221211
DTSTAMP:20260423T093854
CREATED:20221031T110541Z
LAST-MODIFIED:20221031T110541Z
UID:9604-1670630400-1670716799@skanefriidrott.org
SUMMARY:Pepparkaksspelen
DESCRIPTION:
URL:https://www.mai.se/pepparkaksspelen/#new_tab
CATEGORIES:Arena,Tävlingar
END:VEVENT
BEGIN:VEVENT
DTSTART;VALUE=DATE:20221211
DTEND;VALUE=DATE:20221212
DTSTAMP:20260423T093854
CREATED:20221031T110816Z
LAST-MODIFIED:20221031T110816Z
UID:9606-1670716800-1670803199@skanefriidrott.org
SUMMARY:Pepparkaksspelen
DESCRIPTION:
URL:https://www.mai.se/pepparkaksspelen/#new_tab
CATEGORIES:Arena,Tävlingar
END:VEVENT
BEGIN:VEVENT
DTSTART;TZID=Europe/Stockholm:20221217T090000
DTEND;TZID=Europe/Stockholm:20221217T103000
DTSTAMP:20260423T093854
CREATED:20221103T094721Z
LAST-MODIFIED:20221103T094721Z
UID:9630-1671267600-1671273000@skanefriidrott.org
SUMMARY:Julracet
DESCRIPTION:Julracet 2022
URL:https://skanefriidrott.org/wp-content/uploads/2022/11/Julracet-2022.pdf#new_tab
CATEGORIES:Arena,Tävlingar
END:VEVENT
BEGIN:VEVENT
DTSTART;TZID=Europe/Stockholm:20221218T090000
DTEND;TZID=Europe/Stockholm:20221218T120000
DTSTAMP:20260423T093854
CREATED:20221103T094851Z
LAST-MODIFIED:20221103T094851Z
UID:9633-1671354000-1671364800@skanefriidrott.org
SUMMARY:Julracet
DESCRIPTION:
URL:https://skanefriidrott.org/wp-content/uploads/2022/11/Julracet-2022.pdf
CATEGORIES:Arena,Tävlingar
END:VEVENT
BEGIN:VEVENT
DTSTART;VALUE=DATE:20221231
DTEND;VALUE=DATE:20230101
DTSTAMP:20260423T093854
CREATED:20221231T070000Z
LAST-MODIFIED:20220121T075730Z
UID:8921-1672444800-1672531199@skanefriidrott.org
SUMMARY:Nyårsloppet
DESCRIPTION:
URL:https://skanefriidrott.org/event/nyarsloppet-2/
CATEGORIES:Landsväg,Långlopp,Tävlingar
END:VEVENT
BEGIN:VEVENT
DTSTART;VALUE=DATE:20221231
DTEND;VALUE=DATE:20230101
DTSTAMP:20260423T093854
CREATED:20221231T070000Z
LAST-MODIFIED:20220121T075701Z
UID:8923-1672444800-1672531199@skanefriidrott.org
SUMMARY:Sylvesterloppet
DESCRIPTION:
URL:https://skanefriidrott.org/event/sylvesterloppet/
CATEGORIES:Landsväg,Långlopp,Tävlingar
END:VEVENT
END:VCALENDAR