BEGIN:VCALENDAR
VERSION:2.0
PRODID:-//Skånes Friidrottsförbund - ECPv5.5.0.1//NONSGML v1.0//EN
CALSCALE:GREGORIAN
METHOD:PUBLISH
X-WR-CALNAME:Skånes Friidrottsförbund
X-ORIGINAL-URL:https://skanefriidrott.org
X-WR-CALDESC:Events for Skånes Friidrottsförbund
BEGIN:VTIMEZONE
TZID:Europe/Stockholm
BEGIN:DAYLIGHT
TZOFFSETFROM:+0100
TZOFFSETTO:+0200
TZNAME:CEST
DTSTART:20220327T010000
END:DAYLIGHT
BEGIN:STANDARD
TZOFFSETFROM:+0200
TZOFFSETTO:+0100
TZNAME:CET
DTSTART:20221030T010000
END:STANDARD
BEGIN:DAYLIGHT
TZOFFSETFROM:+0100
TZOFFSETTO:+0200
TZNAME:CEST
DTSTART:20230326T010000
END:DAYLIGHT
BEGIN:STANDARD
TZOFFSETFROM:+0200
TZOFFSETTO:+0100
TZNAME:CET
DTSTART:20231029T010000
END:STANDARD
END:VTIMEZONE
BEGIN:VEVENT
DTSTART;VALUE=DATE:20221231
DTEND;VALUE=DATE:20230101
DTSTAMP:20260423T075202
CREATED:20221231T070000Z
LAST-MODIFIED:20220121T075730Z
UID:8921-1672444800-1672531199@skanefriidrott.org
SUMMARY:Nyårsloppet
DESCRIPTION:
URL:https://skanefriidrott.org/event/nyarsloppet-2/
CATEGORIES:Landsväg,Långlopp,Tävlingar
END:VEVENT
BEGIN:VEVENT
DTSTART;VALUE=DATE:20221231
DTEND;VALUE=DATE:20230101
DTSTAMP:20260423T075202
CREATED:20221231T070000Z
LAST-MODIFIED:20220121T075701Z
UID:8923-1672444800-1672531199@skanefriidrott.org
SUMMARY:Sylvesterloppet
DESCRIPTION:
URL:https://skanefriidrott.org/event/sylvesterloppet/
CATEGORIES:Landsväg,Långlopp,Tävlingar
END:VEVENT
BEGIN:VEVENT
DTSTART;VALUE=DATE:20230108
DTEND;VALUE=DATE:20230109
DTSTAMP:20260423T075202
CREATED:20221031T111152Z
LAST-MODIFIED:20221031T111152Z
UID:9608-1673136000-1673222399@skanefriidrott.org
SUMMARY:Malmoe Sprint
DESCRIPTION:
URL:https://www.mai.se/malmoesprint/#new_tab
CATEGORIES:Arena,Tävlingar
END:VEVENT
BEGIN:VEVENT
DTSTART;VALUE=DATE:20230114
DTEND;VALUE=DATE:20230115
DTSTAMP:20260423T075202
CREATED:20221031T113229Z
LAST-MODIFIED:20221031T113229Z
UID:9628-1673654400-1673740799@skanefriidrott.org
SUMMARY:Sprinterträffen
DESCRIPTION:
URL:https://ifklund.se/arrangemang/sprintertraffen/#new_tab
CATEGORIES:Arena,Masters,Tävlingar
END:VEVENT
BEGIN:VEVENT
DTSTART;VALUE=DATE:20230128
DTEND;VALUE=DATE:20230129
DTSTAMP:20260423T075202
CREATED:20221031T112343Z
LAST-MODIFIED:20221031T112343Z
UID:9620-1674864000-1674950399@skanefriidrott.org
SUMMARY:Atleticumspelen
DESCRIPTION:
URL:https://heleneholmsif.se/friidrott/arrangemang/atleticumsspelen/#new_tab
CATEGORIES:Arena,Masters,Tävlingar
END:VEVENT
BEGIN:VEVENT
DTSTART;VALUE=DATE:20230129
DTEND;VALUE=DATE:20230130
DTSTAMP:20260423T075202
CREATED:20221031T112439Z
LAST-MODIFIED:20221031T112439Z
UID:9622-1674950400-1675036799@skanefriidrott.org
SUMMARY:Atleticumspelen
DESCRIPTION:
URL:https://heleneholmsif.se/friidrott/arrangemang/atleticumsspelen/#new_tab
CATEGORIES:Arena,Masters,Tävlingar
END:VEVENT
BEGIN:VEVENT
DTSTART;TZID=Europe/Stockholm:20230203T170000
DTEND;TZID=Europe/Stockholm:20230203T210000
DTSTAMP:20260423T075202
CREATED:20221031T112030Z
LAST-MODIFIED:20221031T112030Z
UID:9614-1675443600-1675458000@skanefriidrott.org
SUMMARY:Åhus Indoor
DESCRIPTION:
URL:https://www.ahusfik.se/start/?ID=187413#new_tab
CATEGORIES:Arena,Masters,Tävlingar
END:VEVENT
BEGIN:VEVENT
DTSTART;VALUE=DATE:20230204
DTEND;VALUE=DATE:20230205
DTSTAMP:20260423T075202
CREATED:20221031T112131Z
LAST-MODIFIED:20221031T112131Z
UID:9616-1675468800-1675555199@skanefriidrott.org
SUMMARY:Åhus Indoor
DESCRIPTION:
URL:https://www.ahusfik.se/start/?ID=187413#new_tab
CATEGORIES:Arena,Masters,Tävlingar
END:VEVENT
END:VCALENDAR